BEGIN:VCALENDAR
VERSION:2.0
METHOD:PUBLISH
X-WR-CALNAME:VFEK |  április 17 2009- április 17 2009
PRODID:-//strange bird labs//Drupal iCal API//EN
BEGIN:VEVENT
DTSTAMP;VALUE=DATE-TIME:20260420T131724Z
DTSTART;VALUE=DATE-TIME:20090416T130000Z
DTEND;VALUE=DATE-TIME:20090430T170000Z
UID:http://portal.vfmk.hu/011120090408
URL;VALUE=URI:http://portal.vfmk.hu/011120090408
SUMMARY:Kelemen Kata és Danyi Péter kiállítása
DESCRIPTION:<p><span style=\\"font-size\: small\;\\"><span style=\\"font-family\: Verdana\;\\">A&nbsp\;Prizma Klub &eacute\;s a<br />
 Verseghy Ferenc Megyei K&ouml\;nyvt&aacute\;r &eacute\;s Művelőd&eacute\;si Int&eacute\;zet<br />
 szeretettel megh&iacute\;vja &Ouml\;nt<br />
 </span></span></p>
 <p class=\\"rtecenter\\"><strong><span style=\\"font-size\: small\;\\"><span style=\\"font-family\: Verdana\;\\">Danyi P&eacute\;ter</span></span></strong><span style=\\"font-size\: small\;\\"><span style=\\"font-family\: Verdana\;\\"><br />
 &eacute\;s tan&aacute\;ra\,<br />
 <strong>Kelemen Kata</strong><br />
 festőműv&eacute\;sz<br />
 </span></span></p>
 <p class=\\"rtecenter\\"><span style=\\"font-size\: small\;\\"><span style=\\"font-family\: Verdana\;\\">ki&aacute\;ll&iacute\;t&aacute\;s&aacute\;nak megnyit&oacute\;j&aacute\;ra<br />
 </span></span></p>
 <p class=\\"rtecenter\\"><strong><span style=\\"font-size\: small\;\\"><span style=\\"font-family\: Verdana\;\\">2009. &aacute\;prilis 16. 14.00</span></span></strong><span style=\\"font-size\: small\;\\"><span style=\\"font-family\: Verdana\;\\"> &oacute\;r&aacute\;ra a<br />
 Műv&eacute\;szeti Szalonba.<br />
 (Verseghy Ferenc K&ouml\;nyvt&aacute\;r\,<br />
 Szolnok\, Kossuth t&eacute\;r 2.)<br />
 </span></span></p>
 <p class=\\"rtejustify\\"><span style=\\"font-size\: small\;\\"><span style=\\"font-family\: Verdana\;\\">A ki&aacute\;ll&iacute\;t&aacute\;st <strong>Farkash&aacute\;zi Istv&aacute\;n</strong> az ANKK &uuml\;gyvezető igazgat&oacute\;ja nyitja meg.<br />
 K&ouml\;zreműk&ouml\;dik a Prizma Du&oacute\; &eacute\;s az Irodalmi K&ouml\;r.<br />
 A ki&aacute\;ll&iacute\;t&aacute\;s &aacute\;prilis 30-ig tekinthető meg.<br />
 </span></span></p>
 <p class=\\"rtecenter\\"><span style=\\"font-size\: small\;\\"><span style=\\"font-family\: Verdana\;\\"><br />
 </span></span></p>
END:VEVENT
END:VCALENDAR
